BEGIN:VCALENDAR
VERSION:2.0
PRODID:-//Lavenham Gardening Club - ECPv5.15.0.1//NONSGML v1.0//EN
CALSCALE:GREGORIAN
METHOD:PUBLISH
X-WR-CALNAME:Lavenham Gardening Club
X-ORIGINAL-URL:https://lavenhamgardeningclub.co.uk
X-WR-CALDESC:Events for Lavenham Gardening Club
REFRESH-INTERVAL;VALUE=DURATION:PT1H
X-Robots-Tag:noindex
X-PUBLISHED-TTL:PT1H
BEGIN:VTIMEZONE
TZID:UTC
BEGIN:STANDARD
TZOFFSETFROM:+0000
TZOFFSETTO:+0000
TZNAME:UTC
DTSTART:20250101T000000
END:STANDARD
END:VTIMEZONE
BEGIN:VEVENT
DTSTART;TZID=UTC:20251029T193000
DTEND;TZID=UTC:20251029T210000
DTSTAMP:20260424T134524
CREATED:20250404T155952Z
LAST-MODIFIED:20250410T103902Z
UID:1058-1761766200-1761771600@lavenhamgardeningclub.co.uk
SUMMARY:Lucy Redman
DESCRIPTION:Lucy Redman.  Topic – Border combination for colour all year.
URL:https://lavenhamgardeningclub.co.uk/event/lucy-redman/
CATEGORIES:Guest Speaker
END:VEVENT
END:VCALENDAR