BEGIN:VCALENDAR
VERSION:2.0
PRODID:-//Lavenham Gardening Club - ECPv5.15.0.1//NONSGML v1.0//EN
CALSCALE:GREGORIAN
METHOD:PUBLISH
X-WR-CALNAME:Lavenham Gardening Club
X-ORIGINAL-URL:https://lavenhamgardeningclub.co.uk
X-WR-CALDESC:Events for Lavenham Gardening Club
REFRESH-INTERVAL;VALUE=DURATION:PT1H
X-Robots-Tag:noindex
X-PUBLISHED-TTL:PT1H
BEGIN:VTIMEZONE
TZID:UTC
BEGIN:STANDARD
TZOFFSETFROM:+0000
TZOFFSETTO:+0000
TZNAME:UTC
DTSTART:20220101T000000
END:STANDARD
END:VTIMEZONE
BEGIN:VEVENT
DTSTART;VALUE=DATE:20240724
DTEND;VALUE=DATE:20240725
DTSTAMP:20260424T122139
CREATED:20240220T172811Z
LAST-MODIFIED:20240220T172811Z
UID:941-1721779200-1721865599@lavenhamgardeningclub.co.uk
SUMMARY:Visit: Raveningham Hall\, Norfolk
DESCRIPTION:Visit by coach to Raveningham Hall\, Norfolk.
URL:https://lavenhamgardeningclub.co.uk/event/visit-raveningham-hall-norfolk/
CATEGORIES:Trips
ATTACH;FMTTYPE=image/jpeg:https://lavenhamgardeningclub.co.uk/wp-content/uploads/2024/02/Raveningham-Hall.jpg
END:VEVENT
BEGIN:VEVENT
DTSTART;TZID=UTC:20240626T193000
DTEND;TZID=UTC:20240626T210000
DTSTAMP:20260424T122139
CREATED:20240220T172433Z
LAST-MODIFIED:20240220T172433Z
UID:939-1719430200-1719435600@lavenhamgardeningclub.co.uk
SUMMARY:Talk: Jim Payne (TBC)
DESCRIPTION:Details To Be Confirmed
URL:https://lavenhamgardeningclub.co.uk/event/talk-jim-payne-tbc/
END:VEVENT
BEGIN:VEVENT
DTSTART;TZID=UTC:20240529T193000
DTEND;TZID=UTC:20240529T210000
DTSTAMP:20260424T122139
CREATED:20240220T172304Z
LAST-MODIFIED:20240220T172304Z
UID:937-1717011000-1717016400@lavenhamgardeningclub.co.uk
SUMMARY:Talk: Stephen Frankland
DESCRIPTION:Stephen Frankland.  Talk – ‘National Trust Gardens (Melford Hall & The Guildhall\, Lavenham)’.
URL:https://lavenhamgardeningclub.co.uk/event/talk-stephen-frankland/
CATEGORIES:Guest Speaker
END:VEVENT
BEGIN:VEVENT
DTSTART;VALUE=DATE:20240522
DTEND;VALUE=DATE:20240523
DTSTAMP:20260424T122139
CREATED:20240220T172127Z
LAST-MODIFIED:20240220T172322Z
UID:934-1716336000-1716422399@lavenhamgardeningclub.co.uk
SUMMARY:Visit: Porter's Lodge\, Cavenham
DESCRIPTION:Coach trip to Porter’s Lodge\, Cavenham\, Nr. Bury St Edmunds
URL:https://lavenhamgardeningclub.co.uk/event/visit-porters-lodge-cavenham/
CATEGORIES:Trips
ATTACH;FMTTYPE=image/jpeg:https://lavenhamgardeningclub.co.uk/wp-content/uploads/2024/02/PortersLodge-Cavernham.jpg
END:VEVENT
BEGIN:VEVENT
DTSTART;TZID=UTC:20240511T100000
DTEND;TZID=UTC:20240511T143000
DTSTAMP:20260424T122139
CREATED:20240220T171800Z
LAST-MODIFIED:20240220T171800Z
UID:932-1715421600-1715437800@lavenhamgardeningclub.co.uk
SUMMARY:LGC Annuals Plant Sale
DESCRIPTION:The LGC Annuals plant Sale\, Lavenham Market Square from 10am to 2.30pm. (please contact Carolyn on 01787 247489 if you have any plants).
URL:https://lavenhamgardeningclub.co.uk/event/lgc-annuals-plant-sale-2/
LOCATION:Lavenham Market Place\, Lavenham Market Place\, Lavenham\, Suffolk\, United Kingdom
CATEGORIES:Show/Party
END:VEVENT
BEGIN:VEVENT
DTSTART;TZID=UTC:20240424T190000
DTEND;TZID=UTC:20240424T203000
DTSTAMP:20260424T122139
CREATED:20240220T171252Z
LAST-MODIFIED:20240220T171530Z
UID:925-1713985200-1713990600@lavenhamgardeningclub.co.uk
SUMMARY:A Talk by Nick Bailey
DESCRIPTION:Talk by \nNick Bailey\nPresenter on Gardeners World\, Garden Maker and Best Selling Author\n365 Days of Colour in Your Garden\nTickets include a glass of wine or soft drink
URL:https://lavenhamgardeningclub.co.uk/event/925/
LOCATION:Lavenham Village Hall
CATEGORIES:Guest Speaker
ATTACH;FMTTYPE=image/jpeg:https://lavenhamgardeningclub.co.uk/wp-content/uploads/2024/02/gardener-Nick-Bailey-Photo-1.jpg
END:VEVENT
BEGIN:VEVENT
DTSTART;TZID=UTC:20240327T193000
DTEND;TZID=UTC:20240327T210000
DTSTAMP:20260424T122139
CREATED:20240220T170450Z
LAST-MODIFIED:20240221T083903Z
UID:923-1711567800-1711573200@lavenhamgardeningclub.co.uk
SUMMARY:Talk: From Seed to Vase
DESCRIPTION:Leanna\, a local flower grower and florist presents her talk\, “From Seed to Vase”
URL:https://lavenhamgardeningclub.co.uk/event/talk-from-seed-to-vase/
LOCATION:Lavenham Village Hall
CATEGORIES:Guest Speaker
ATTACH;FMTTYPE=image/jpeg:https://lavenhamgardeningclub.co.uk/wp-content/uploads/2024/02/Leanna_Monica.jpg
END:VEVENT
BEGIN:VEVENT
DTSTART;TZID=UTC:20240228T193000
DTEND;TZID=UTC:20240228T210000
DTSTAMP:20260424T122139
CREATED:20240220T170214Z
LAST-MODIFIED:20240220T170509Z
UID:921-1709148600-1709154000@lavenhamgardeningclub.co.uk
SUMMARY:Annual General Meeting
DESCRIPTION:Our AGM will be held in the main hall.
URL:https://lavenhamgardeningclub.co.uk/event/annual-general-meeting/
LOCATION:Lavenham Village Hall
CATEGORIES:Club
END:VEVENT
BEGIN:VEVENT
DTSTART;VALUE=DATE:20240131
DTEND;VALUE=DATE:20240201
DTSTAMP:20260424T122139
CREATED:20230202T153248Z
LAST-MODIFIED:20230202T153248Z
UID:780-1706659200-1706745599@lavenhamgardeningclub.co.uk
SUMMARY:New Year Party
DESCRIPTION:Our New Year Party for 2024!! \n  \nFrom 7pm at Lavenham Village Hall.
URL:https://lavenhamgardeningclub.co.uk/event/new-year-party-2/
LOCATION:Lavenham Village Hall
CATEGORIES:Show/Party
END:VEVENT
BEGIN:VEVENT
DTSTART;VALUE=DATE:20231129
DTEND;VALUE=DATE:20231130
DTSTAMP:20260424T122139
CREATED:20230202T152552Z
LAST-MODIFIED:20230202T153130Z
UID:778-1701216000-1701302399@lavenhamgardeningclub.co.uk
SUMMARY:Quiz Night
DESCRIPTION:LGC Home Match Quiz against Thorpe Morieux
URL:https://lavenhamgardeningclub.co.uk/event/quiz-night/
LOCATION:Lavenham Village Hall
CATEGORIES:Club
END:VEVENT
BEGIN:VEVENT
DTSTART;VALUE=DATE:20231025
DTEND;VALUE=DATE:20231026
DTSTAMP:20260424T122139
CREATED:20230202T152446Z
LAST-MODIFIED:20230202T152446Z
UID:776-1698192000-1698278399@lavenhamgardeningclub.co.uk
SUMMARY:Jim Payne
DESCRIPTION:Jim Payne joins us to talk about climate change
URL:https://lavenhamgardeningclub.co.uk/event/jim-payne/
CATEGORIES:Club
END:VEVENT
BEGIN:VEVENT
DTSTART;VALUE=DATE:20230927
DTEND;VALUE=DATE:20230928
DTSTAMP:20260424T122139
CREATED:20230202T152158Z
LAST-MODIFIED:20230810T113456Z
UID:771-1695772800-1695859199@lavenhamgardeningclub.co.uk
SUMMARY:Pippa Greenwood
DESCRIPTION:Celebrity speaker\, Pippa Greenwood joins us with a Topic: My life in gardening. \nTickets are £20 for both members and non-members. \n \n  \n \n 
URL:https://lavenhamgardeningclub.co.uk/event/pippa-greenwood/
LOCATION:Lavenham Village Hall
CATEGORIES:Club
END:VEVENT
BEGIN:VEVENT
DTSTART;VALUE=DATE:20230906
DTEND;VALUE=DATE:20230907
DTSTAMP:20260424T122139
CREATED:20230202T151943Z
LAST-MODIFIED:20230810T110611Z
UID:769-1693958400-1694044799@lavenhamgardeningclub.co.uk
SUMMARY:Produce Show
DESCRIPTION:Produce Show 6th September\, members only. Please contact Jean Thomson on 01787 247071.
URL:https://lavenhamgardeningclub.co.uk/event/lavenham-gardening-club-show/
CATEGORIES:Show/Party
END:VEVENT
BEGIN:VEVENT
DTSTART;VALUE=DATE:20230809
DTEND;VALUE=DATE:20230810
DTSTAMP:20260424T122139
CREATED:20230810T110142Z
LAST-MODIFIED:20230810T110413Z
UID:849-1691539200-1691625599@lavenhamgardeningclub.co.uk
SUMMARY:Coach trip to Bridges\, Woolpit
DESCRIPTION:Visit by coach to “Bridges” Woolpit. This delightful Garden featured on ITV “This morning “ programme today 3rd Aug.
URL:https://lavenhamgardeningclub.co.uk/event/coach-trip-to-bridges-woolpit/
CATEGORIES:Trips
END:VEVENT
BEGIN:VEVENT
DTSTART;VALUE=DATE:20230809
DTEND;VALUE=DATE:20230810
DTSTAMP:20260424T122139
CREATED:20230202T151827Z
LAST-MODIFIED:20230202T151827Z
UID:766-1691539200-1691625599@lavenhamgardeningclub.co.uk
SUMMARY:[VISIT] Woolpit
DESCRIPTION:A coach trip to Woolpit – A hidden garden – well worth a visit! \nTimes and costs to be confirmed.
URL:https://lavenhamgardeningclub.co.uk/event/visit-woolpit/
CATEGORIES:Trips
END:VEVENT
BEGIN:VEVENT
DTSTART;TZID=UTC:20230726T183000
DTEND;TZID=UTC:20230726T203000
DTSTAMP:20260424T122139
CREATED:20230202T151547Z
LAST-MODIFIED:20230202T151547Z
UID:764-1690396200-1690403400@lavenhamgardeningclub.co.uk
SUMMARY:Summer Garden Party
DESCRIPTION:Our Annual Summer Garden Party – venue to be confirmed.
URL:https://lavenhamgardeningclub.co.uk/event/summer-garden-party/
CATEGORIES:Show/Party
END:VEVENT
BEGIN:VEVENT
DTSTART;VALUE=DATE:20230716
DTEND;VALUE=DATE:20230717
DTSTAMP:20260424T122139
CREATED:20230202T151407Z
LAST-MODIFIED:20230202T151407Z
UID:761-1689465600-1689551999@lavenhamgardeningclub.co.uk
SUMMARY:[VISIT] Houghton Hall
DESCRIPTION:A coach trip to Houghton Hall\, Norfolk. \nThis is a combined trip with Boxford Gardening Club \nTimes and costs to be confirmed.
URL:https://lavenhamgardeningclub.co.uk/event/visit-houghton-hall/
CATEGORIES:Trips
END:VEVENT
BEGIN:VEVENT
DTSTART;VALUE=DATE:20230628
DTEND;VALUE=DATE:20230629
DTSTAMP:20260424T122139
CREATED:20230202T151110Z
LAST-MODIFIED:20230202T151110Z
UID:759-1687910400-1687996799@lavenhamgardeningclub.co.uk
SUMMARY:Mickfield Hostas
DESCRIPTION:Mickfield Hostas with the Topic: Growing and caring for hostas\, plus plants for sale
URL:https://lavenhamgardeningclub.co.uk/event/mickfield-hostas/
CATEGORIES:Club
END:VEVENT
BEGIN:VEVENT
DTSTART;VALUE=DATE:20230531
DTEND;VALUE=DATE:20230601
DTSTAMP:20260424T122139
CREATED:20230202T145707Z
LAST-MODIFIED:20230202T150117Z
UID:754-1685491200-1685577599@lavenhamgardeningclub.co.uk
SUMMARY:Barbara Segall
DESCRIPTION:Barbara Segall\, well-known garden writer\, with the Topic: Secret gardens of the Southeast. \n \n 
URL:https://lavenhamgardeningclub.co.uk/event/barbara-segall/
LOCATION:Lavenham Village Hall
CATEGORIES:Club
END:VEVENT
BEGIN:VEVENT
DTSTART;TZID=UTC:20230527T100000
DTEND;TZID=UTC:20230527T140000
DTSTAMP:20260424T122139
CREATED:20230202T145518Z
LAST-MODIFIED:20230202T145518Z
UID:752-1685181600-1685196000@lavenhamgardeningclub.co.uk
SUMMARY:LGC Perennials Plant Sale
DESCRIPTION:The LGC Perennials plant sale in Lavenham Market Square
URL:https://lavenhamgardeningclub.co.uk/event/lgc-perennials-plant-sale/
LOCATION:Lavenham Market Place\, Lavenham Market Place\, Lavenham\, Suffolk\, United Kingdom
CATEGORIES:Show/Party
END:VEVENT
BEGIN:VEVENT
DTSTART;TZID=UTC:20230513T100000
DTEND;TZID=UTC:20230513T140000
DTSTAMP:20260424T122139
CREATED:20230202T145349Z
LAST-MODIFIED:20230207T142452Z
UID:749-1683972000-1683986400@lavenhamgardeningclub.co.uk
SUMMARY:LGC Annuals Plant Sale
DESCRIPTION:The LGC annuals plant sale to be held in Lavenham Market Square. \nPlease contact Carolyn on 01787 247489\, if you have any plants
URL:https://lavenhamgardeningclub.co.uk/event/lgc-annuals-plant-sale/
LOCATION:Lavenham Market Place\, Lavenham Market Place\, Lavenham\, Suffolk\, United Kingdom
CATEGORIES:Show/Party
END:VEVENT
BEGIN:VEVENT
DTSTART;VALUE=DATE:20230426
DTEND;VALUE=DATE:20230427
DTSTAMP:20260424T122139
CREATED:20230202T145035Z
LAST-MODIFIED:20230202T145042Z
UID:747-1682467200-1682553599@lavenhamgardeningclub.co.uk
SUMMARY:Jenny Auchincloss
DESCRIPTION:Join us for an evening with Jenny Auchincloss\, well-known local garden designer\, TV presenter and RHS Chelsea medal winner. \nTimes to be confirmed.
URL:https://lavenhamgardeningclub.co.uk/event/jenny-auchincloss/
LOCATION:Lavenham Village Hall
CATEGORIES:Club
END:VEVENT
BEGIN:VEVENT
DTSTART;VALUE=DATE:20230405
DTEND;VALUE=DATE:20230406
DTSTAMP:20260424T122139
CREATED:20230202T144835Z
LAST-MODIFIED:20230202T144855Z
UID:745-1680652800-1680739199@lavenhamgardeningclub.co.uk
SUMMARY:[VISIT] Ousden House\, Newmarket
DESCRIPTION:We have a coach trip to Ousden House\, Near Newmarket. This is a return visit to this award-winning garden\, which is renowned for spring bulbs and colour. \nTimes and costs to be confirmed.
URL:https://lavenhamgardeningclub.co.uk/event/visit-ousden-house-newmarket/
CATEGORIES:Trips
END:VEVENT
BEGIN:VEVENT
DTSTART;VALUE=DATE:20230329
DTEND;VALUE=DATE:20230330
DTSTAMP:20260424T122139
CREATED:20230202T144607Z
LAST-MODIFIED:20230202T144612Z
UID:743-1680048000-1680134399@lavenhamgardeningclub.co.uk
SUMMARY:Leanna - Local Flower Grower
DESCRIPTION:Leanna is a local flower grower and florist. Join us for this Demonstration and Workshop with an Easter theme.
URL:https://lavenhamgardeningclub.co.uk/event/leanna-local-flower-grower/
LOCATION:Lavenham Village Hall
END:VEVENT
BEGIN:VEVENT
DTSTART;TZID=UTC:20230222T193000
DTEND;TZID=UTC:20230222T210000
DTSTAMP:20260424T122139
CREATED:20230110T090402Z
LAST-MODIFIED:20230110T090402Z
UID:736-1677094200-1677099600@lavenhamgardeningclub.co.uk
SUMMARY:LGC AGM
DESCRIPTION:Further details to follow
URL:https://lavenhamgardeningclub.co.uk/event/lgc-agm/
LOCATION:Lavenham Village Hall
END:VEVENT
BEGIN:VEVENT
DTSTART;TZID=UTC:20230125T190000
DTEND;TZID=UTC:20230125T210000
DTSTAMP:20260424T122139
CREATED:20230110T090250Z
LAST-MODIFIED:20230110T090250Z
UID:734-1674673200-1674680400@lavenhamgardeningclub.co.uk
SUMMARY:New Year Party
DESCRIPTION:Usual venue\, Lavenham Village Hall 7pm. (Please note earlier time) \nAll refreshments provided\, but please contact Sandra if you have any dietary requirements. \nEntertainment during the evening will be a Magician.
URL:https://lavenhamgardeningclub.co.uk/event/new-year-party/
LOCATION:Lavenham Village Hall
END:VEVENT
BEGIN:VEVENT
DTSTART;TZID=UTC:20221121T190000
DTEND;TZID=UTC:20221121T213000
DTSTAMP:20260424T122139
CREATED:20220820T062707Z
LAST-MODIFIED:20220820T065249Z
UID:530-1669057200-1669066200@lavenhamgardeningclub.co.uk
SUMMARY:THE QUIZ WITH THORPE MORIEUX AT THORPE MORIEUX
DESCRIPTION:We are holding the Annual Quiz between Lavenham Gardening Club and Thorpe Morieux on Monday 21st November 2022. \nThis year we are at Thorpe Morieux for a 7.00pm start. \nEveryone welcome.
URL:https://lavenhamgardeningclub.co.uk/event/the-quiz-with-thorpe-morieux/
END:VEVENT
BEGIN:VEVENT
DTSTART;TZID=UTC:20221026T193000
DTEND;TZID=UTC:20221026T210000
DTSTAMP:20260424T122139
CREATED:20220630T061038Z
LAST-MODIFIED:20221010T171244Z
UID:285-1666812600-1666818000@lavenhamgardeningclub.co.uk
SUMMARY:RIVERSIDE BULBS
DESCRIPTION:Topic\, Builds galore\, Autumn planting for Spring colour.
URL:https://lavenhamgardeningclub.co.uk/event/designing-a-garden-for-nature/
LOCATION:Lavenham Village Hall
END:VEVENT
BEGIN:VEVENT
DTSTART;TZID=UTC:20220927T193000
DTEND;TZID=UTC:20220927T213000
DTSTAMP:20260424T122139
CREATED:20220630T061939Z
LAST-MODIFIED:20220822T092106Z
UID:289-1664307000-1664314200@lavenhamgardeningclub.co.uk
SUMMARY:AN EVENING WITH ADAM FROST
DESCRIPTION:We are delighted to welcome Adam Frost who regularly presents on Gardeners’ World. \n 
URL:https://lavenhamgardeningclub.co.uk/event/an-evening-with-adam-frost/
END:VEVENT
BEGIN:VEVENT
DTSTART;VALUE=DATE:20220918
DTEND;VALUE=DATE:20220919
DTSTAMP:20260424T122139
CREATED:20220630T060233Z
LAST-MODIFIED:20220821T165253Z
UID:281-1663459200-1663545599@lavenhamgardeningclub.co.uk
SUMMARY:HELMINGHAM HALL AUTUMN PLANT SALE and ARTISAN MARKET
DESCRIPTION:This is a fantastic day out for experienced and novice gardeners alike. \nThere is a garden Zone with plenty sales including unusual plants. In the marquee are Artisan Workshops and craft sales with a wide ranging array of products from food\,  and French collectables to handmade soaps and pottery. \n  \nThe coach will leave the Cock Horse Car Park around 10.00am returning around 5.00pm. \nIn order to cover the costs of the coach we need at least 30 people. We are happy to welcome non- members should you wish to bring a friend. \nThe cost is £22.00 per person to include coach and entrance ticket. \nTo join us please contact Sandra on 01787 311707 – 07584 301474 or email her at Sandra.harbord@outlook.com by no later than 31st July.
URL:https://lavenhamgardeningclub.co.uk/event/helmingham-hall-autumn-plant-sale-and-artisan-market/
END:VEVENT
END:VCALENDAR