BEGIN:VCALENDAR
VERSION:2.0
PRODID:-//Lavenham Gardening Club - ECPv5.15.0.1//NONSGML v1.0//EN
CALSCALE:GREGORIAN
METHOD:PUBLISH
X-WR-CALNAME:Lavenham Gardening Club
X-ORIGINAL-URL:https://lavenhamgardeningclub.co.uk
X-WR-CALDESC:Events for Lavenham Gardening Club
REFRESH-INTERVAL;VALUE=DURATION:PT1H
X-Robots-Tag:noindex
X-PUBLISHED-TTL:PT1H
BEGIN:VTIMEZONE
TZID:UTC
BEGIN:STANDARD
TZOFFSETFROM:+0000
TZOFFSETTO:+0000
TZNAME:UTC
DTSTART:20220101T000000
END:STANDARD
END:VTIMEZONE
BEGIN:VEVENT
DTSTART;TZID=UTC:20221026T193000
DTEND;TZID=UTC:20221026T210000
DTSTAMP:20260425T134706
CREATED:20220630T061038Z
LAST-MODIFIED:20221010T171244Z
UID:285-1666812600-1666818000@lavenhamgardeningclub.co.uk
SUMMARY:RIVERSIDE BULBS
DESCRIPTION:Topic\, Builds galore\, Autumn planting for Spring colour.
URL:https://lavenhamgardeningclub.co.uk/event/designing-a-garden-for-nature/
LOCATION:Lavenham Village Hall
END:VEVENT
BEGIN:VEVENT
DTSTART;TZID=UTC:20220927T193000
DTEND;TZID=UTC:20220927T213000
DTSTAMP:20260425T134706
CREATED:20220630T061939Z
LAST-MODIFIED:20220822T092106Z
UID:289-1664307000-1664314200@lavenhamgardeningclub.co.uk
SUMMARY:AN EVENING WITH ADAM FROST
DESCRIPTION:We are delighted to welcome Adam Frost who regularly presents on Gardeners’ World. \n 
URL:https://lavenhamgardeningclub.co.uk/event/an-evening-with-adam-frost/
END:VEVENT
BEGIN:VEVENT
DTSTART;VALUE=DATE:20220918
DTEND;VALUE=DATE:20220919
DTSTAMP:20260425T134706
CREATED:20220630T060233Z
LAST-MODIFIED:20220821T165253Z
UID:281-1663459200-1663545599@lavenhamgardeningclub.co.uk
SUMMARY:HELMINGHAM HALL AUTUMN PLANT SALE and ARTISAN MARKET
DESCRIPTION:This is a fantastic day out for experienced and novice gardeners alike. \nThere is a garden Zone with plenty sales including unusual plants. In the marquee are Artisan Workshops and craft sales with a wide ranging array of products from food\,  and French collectables to handmade soaps and pottery. \n  \nThe coach will leave the Cock Horse Car Park around 10.00am returning around 5.00pm. \nIn order to cover the costs of the coach we need at least 30 people. We are happy to welcome non- members should you wish to bring a friend. \nThe cost is £22.00 per person to include coach and entrance ticket. \nTo join us please contact Sandra on 01787 311707 – 07584 301474 or email her at Sandra.harbord@outlook.com by no later than 31st July.
URL:https://lavenhamgardeningclub.co.uk/event/helmingham-hall-autumn-plant-sale-and-artisan-market/
END:VEVENT
BEGIN:VEVENT
DTSTART;VALUE=DATE:20220910
DTEND;VALUE=DATE:20220911
DTSTAMP:20260425T134706
CREATED:20220525T101600Z
LAST-MODIFIED:20220525T101600Z
UID:152-1662768000-1662854399@lavenhamgardeningclub.co.uk
SUMMARY:‘Produce Plus’ Show
DESCRIPTION:Our highlight of the Summer!
URL:https://lavenhamgardeningclub.co.uk/event/produce-plus-show/
CATEGORIES:Show/Party
ATTACH;FMTTYPE=image/jpeg:https://lavenhamgardeningclub.co.uk/wp-content/uploads/2022/05/produce.jpg
END:VEVENT
BEGIN:VEVENT
DTSTART;TZID=UTC:20220809T183000
DTEND;TZID=UTC:20220809T203000
DTSTAMP:20260425T134706
CREATED:20220525T101052Z
LAST-MODIFIED:20220703T051621Z
UID:149-1660069800-1660077000@lavenhamgardeningclub.co.uk
SUMMARY:Summer Garden Party at Little Hall\, Lavenham
DESCRIPTION:We invite all members to join us at Little Hall\, Lavenham for our Annual Summer Garden party. \n 
URL:https://lavenhamgardeningclub.co.uk/event/summer-garden-party-at-little-hall-lavenham/
CATEGORIES:Show/Party
ATTACH;FMTTYPE=image/jpeg:https://lavenhamgardeningclub.co.uk/wp-content/uploads/2022/05/Lavenham-Gardening-club-stand.jpeg
END:VEVENT
BEGIN:VEVENT
DTSTART;VALUE=DATE:20220727
DTEND;VALUE=DATE:20220728
DTSTAMP:20260425T134706
CREATED:20220525T100829Z
LAST-MODIFIED:20220715T154741Z
UID:146-1658880000-1658966399@lavenhamgardeningclub.co.uk
SUMMARY:Jim Paine   ‘The Secret Life of Plants’
DESCRIPTION:Jim Paine and Clare Billington run a specialist hardy plant nursery in Norfolk where they propagate and grow a large variety of plants\, many of which are rare and unusual.\n\nWith his experience as a Nurseryman his talk this evening should be very interesting.
URL:https://lavenhamgardeningclub.co.uk/event/jim-paine-the-secret-life-of-plants/
CATEGORIES:Club
END:VEVENT
BEGIN:VEVENT
DTSTART;VALUE=DATE:20220706
DTEND;VALUE=DATE:20220707
DTSTAMP:20260425T134706
CREATED:20220524T154607Z
LAST-MODIFIED:20220629T122955Z
UID:143-1657065600-1657151999@lavenhamgardeningclub.co.uk
SUMMARY:Outing to Ousden House Gardens\, Nr Newmarket
DESCRIPTION:Coach will leave the Cock Horse car park around 12.45pm\, arrive at Ousden House\, around 2pm. \nA guided tour around the gardens will be followed be refreshments.  This is likely to be the last year the gardens will be open to the public. \nTo date we have around 20 names down\, but as 53-seater coach we can accommodate a few more and still be socially distant.  Cost £22.00. \nPlease contact Sandra to book your place. \n 
URL:https://lavenhamgardeningclub.co.uk/event/outing-to-ousden-house-gardens-nr-newmarket/
CATEGORIES:Trips
ATTACH;FMTTYPE=image/jpeg:https://lavenhamgardeningclub.co.uk/wp-content/uploads/2022/05/Ousden-House-Gardens.jpg
END:VEVENT
BEGIN:VEVENT
DTSTART;VALUE=DATE:20220629
DTEND;VALUE=DATE:20220630
DTSTAMP:20260425T134706
CREATED:20220524T154423Z
LAST-MODIFIED:20220524T154423Z
UID:140-1656460800-1656547199@lavenhamgardeningclub.co.uk
SUMMARY:Zsusannah Serer  ‘Propagating & Growing Herbs’
DESCRIPTION:
URL:https://lavenhamgardeningclub.co.uk/event/zsusannah-serer-propagating-growing-herbs/
CATEGORIES:Club
ATTACH;FMTTYPE=image/jpeg:https://lavenhamgardeningclub.co.uk/wp-content/uploads/2022/05/propagate-herbs.jpg
END:VEVENT
BEGIN:VEVENT
DTSTART;VALUE=DATE:20220622
DTEND;VALUE=DATE:20220623
DTSTAMP:20260425T134706
CREATED:20220524T154222Z
LAST-MODIFIED:20220524T154222Z
UID:137-1655856000-1655942399@lavenhamgardeningclub.co.uk
SUMMARY:Outing to Peter Beales Roses\, Attleborough
DESCRIPTION:
URL:https://lavenhamgardeningclub.co.uk/event/outing-to-peter-beales-roses-attleborough/
CATEGORIES:Trips
END:VEVENT
BEGIN:VEVENT
DTSTART;VALUE=DATE:20220601
DTEND;VALUE=DATE:20220602
DTSTAMP:20260425T134706
CREATED:20220524T131826Z
LAST-MODIFIED:20220524T131826Z
UID:30-1654041600-1654127999@lavenhamgardeningclub.co.uk
SUMMARY:Simon White   ‘Rose growing made easy’
DESCRIPTION:
URL:https://lavenhamgardeningclub.co.uk/event/simon-white-rose-growing-made-easy/
CATEGORIES:Club
ATTACH;FMTTYPE=image/jpeg:https://lavenhamgardeningclub.co.uk/wp-content/uploads/2022/05/Simon-White-Rose-Growing.jpg
END:VEVENT
BEGIN:VEVENT
DTSTART;VALUE=DATE:20220528
DTEND;VALUE=DATE:20220529
DTSTAMP:20260425T134706
CREATED:20220524T131628Z
LAST-MODIFIED:20220524T131628Z
UID:27-1653696000-1653782399@lavenhamgardeningclub.co.uk
SUMMARY:Plant Sale - Perennials
DESCRIPTION:
URL:https://lavenhamgardeningclub.co.uk/event/plant-sale-perennials/
CATEGORIES:Club
ATTACH;FMTTYPE=image/jpeg:https://lavenhamgardeningclub.co.uk/wp-content/uploads/2022/05/perenials.jpg
END:VEVENT
BEGIN:VEVENT
DTSTART;VALUE=DATE:20220514
DTEND;VALUE=DATE:20220515
DTSTAMP:20260425T134706
CREATED:20220524T131537Z
LAST-MODIFIED:20220524T131537Z
UID:24-1652486400-1652572799@lavenhamgardeningclub.co.uk
SUMMARY:Plant Sale - Annuals
DESCRIPTION:
URL:https://lavenhamgardeningclub.co.uk/event/plant-sale-annuals/
CATEGORIES:Club
ATTACH;FMTTYPE=image/jpeg:https://lavenhamgardeningclub.co.uk/wp-content/uploads/2022/05/Annuals.jpg
END:VEVENT
BEGIN:VEVENT
DTSTART;VALUE=DATE:20220511
DTEND;VALUE=DATE:20220512
DTSTAMP:20260425T134706
CREATED:20220524T130754Z
LAST-MODIFIED:20220524T130754Z
UID:21-1652227200-1652313599@lavenhamgardeningclub.co.uk
SUMMARY:Outing to Beeleigh Abbey Gardens\, Nr Maldon\, Essex
DESCRIPTION:
URL:https://lavenhamgardeningclub.co.uk/event/outing-to-beeleigh-abbey-gardens-nr-maldon-essex/
CATEGORIES:Trips
ATTACH;FMTTYPE=image/jpeg:https://lavenhamgardeningclub.co.uk/wp-content/uploads/2022/05/beeleigh-abbey-gardens.jpg
END:VEVENT
END:VCALENDAR